BEGIN:VCALENDAR
VERSION:2.0
PRODID:icalendar-ruby
CALSCALE:GREGORIAN
METHOD:PUBLISH
BEGIN:VEVENT
DTSTAMP:20260423T105718Z
UID:8-372716@sunprairiebaptist.com
DTSTART:20260525T223000Z
DTEND:20260529T223000Z
CLASS:PUBLIC
CREATED:20260417T120338
DESCRIPTION:
LAST-MODIFIED:20260417T120338
LOCATION:
SUMMARY:Vacation Bible School
URL;VALUE=URI:https://www.sunprairiebaptist.com/events/vacation-bible-schoo
 l/2026-05-25
ATTACH;FILENAME=Junkyard-Redemption-logo.png;FMTTYPE=image/png:https://dq5p
 wpg1q8ru0.cloudfront.net/2026/04/08/01/30/53/80b74e09-eb56-4554-8f51-de9d8
 9154d84/Junkyard-Redemption-logo.png
END:VEVENT
END:VCALENDAR
