BEGIN:VCALENDAR
VERSION:2.0
PRODID:icalendar-ruby
CALSCALE:GREGORIAN
METHOD:PUBLISH
BEGIN:VEVENT
DTSTAMP:20260424T192252Z
UID:5-372714@sunprairiebaptist.com
DTSTART:20261018T153000Z
DTEND:20261018T163000Z
CLASS:PUBLIC
CREATED:20260408T095236
DESCRIPTION:Sunday Worship
LAST-MODIFIED:20260408T095236
LOCATION:
SUMMARY:Sunday Worship
URL;VALUE=URI:https://www.sunprairiebaptist.com/events/sunday-worship/2026-
 10-18
END:VEVENT
END:VCALENDAR
