BEGIN:VCALENDAR
VERSION:2.0
PRODID:icalendar-ruby
CALSCALE:GREGORIAN
METHOD:PUBLISH
BEGIN:VEVENT
DTSTAMP:20260423T110433Z
UID:7-372718@sunprairiebaptist.com
DTSTART:20260429T230000Z
DTEND:20260430T010000Z
CLASS:PUBLIC
CREATED:20260422T115741
DESCRIPTION:
LAST-MODIFIED:20260422T115741
LOCATION:
SUMMARY:Adventure Club Program and Picnic
URL;VALUE=URI:https://www.sunprairiebaptist.com/events/adventure-club-progr
 am-and-picnic/2026-04-29
ATTACH;FILENAME=picnic4-x-4-in.png;FMTTYPE=image/png:https://dq5pwpg1q8ru0.
 cloudfront.net/2026/04/22/16/56/40/208caeb6-a095-4965-8a80-d8ba7e14b7d9/pi
 cnic4-x-4-in.png
END:VEVENT
END:VCALENDAR
